BEGIN:VCALENDAR
VERSION:2.0
PRODID:-//Shorthorn - ECPv6.0.13.1//NONSGML v1.0//EN
CALSCALE:GREGORIAN
METHOD:PUBLISH
X-WR-CALNAME:Shorthorn
X-ORIGINAL-URL:https://www.shorthorn.co.nz
X-WR-CALDESC:Events for Shorthorn
REFRESH-INTERVAL;VALUE=DURATION:PT1H
X-Robots-Tag:noindex
X-PUBLISHED-TTL:PT1H
BEGIN:VTIMEZONE
TZID:Pacific/Auckland
BEGIN:STANDARD
TZOFFSETFROM:+1300
TZOFFSETTO:+1200
TZNAME:NZST
DTSTART:20260404T140000
END:STANDARD
BEGIN:DAYLIGHT
TZOFFSETFROM:+1200
TZOFFSETTO:+1300
TZNAME:NZDT
DTSTART:20260926T140000
END:DAYLIGHT
END:VTIMEZONE
BEGIN:VEVENT
DTSTART;TZID=Pacific/Auckland:20260519T110000
DTEND;TZID=Pacific/Auckland:20260519T110000
DTSTAMP:20260423T044725
CREATED:20260210T230127Z
LAST-MODIFIED:20260210T230131Z
UID:18530-1779188400-1779188400@www.shorthorn.co.nz
SUMMARY:Glendhu Bull Sale
DESCRIPTION:
URL:https://www.shorthorn.co.nz/event-single-post-name/glendhu-bull-sale/
END:VEVENT
END:VCALENDAR